BEGIN:VCALENDAR
VERSION:2.0
PRODID:-//hacksw/handcal//NONSGML v1.0//EN
CALSCALE:GREGORIAN
BEGIN:VEVENT
ORGANIZER;CN=Vericel Corporation:MAILTO:no-reply@mail.gcs-web.com
DTEND:
UID:8b14240c-aab2-45d3-9b07-47256f653912
DTSTAMP:1777034147
LOCATION:https://event.webcasts.com/starthere.jsp?ei=1748784&tp_key=bec22899be
DESCRIPTION:Event Details https://investors.vcel.com/events/event-details/vericel-corporation-first-quarter-2026-earnings-call\n\nWebcast: https://event.webcasts.com/starthere.jsp?ei=1748784&tp_key=bec22899be
URL;VALUE=URI:https://event.webcasts.com/starthere.jsp?ei=1748784&tp_key=bec22899be
SUMMARY:Vericel Corporation - Vericel Corporation First Quarter 2026 Earnings Call
DTSTART:20260507T123000Z
END:VEVENT
END:VCALENDAR